BEGIN:VCALENDAR
VERSION:2.0
PRODID:-//wp-events-plugin.com//7.2.3.1//EN
BEGIN:VEVENT
UID:6@ertministries.com
DTSTART;TZID=America/Toronto:20240428T104500
DTEND;TZID=America/Toronto:20240428T130000
DTSTAMP:20240312T035538Z
URL:https://ertministries.com/events/youth-sunday/
SUMMARY:Youth Sunday
DESCRIPTION:
ATTACH;FMTTYPE=image/jpeg:https://ertministries.com/wp-content/uploads/202
 4/03/YouthSunday.png
CATEGORIES:Service
LOCATION:Ebenezer Revival Tabernacle\, 1228 Birchmount Road\, Toronto\, Ont
 ario\, M1P2C3\, Cameroon
X-APPLE-STRUCTURED-LOCATION;VALUE=URI;X-ADDRESS=1228 Birchmount Road\, Toro
 nto\, Ontario\, M1P2C3\, Cameroon;X-APPLE-RADIUS=100;X-TITLE=Ebenezer Revi
 val Tabernacle:geo:0,0
END:VEVENT
BEGIN:VTIMEZONE
TZID:America/Toronto
X-LIC-LOCATION:America/Toronto
BEGIN:DAYLIGHT
DTSTART:20240310T030000
TZOFFSETFROM:-0500
TZOFFSETTO:-0400
TZNAME:EDT
END:DAYLIGHT
END:VTIMEZONE
END:VCALENDAR