BEGIN:VCALENDAR
VERSION:2.0
PRODID:-//wp-events-plugin.com//7.2.3.1//EN
BEGIN:VEVENT
UID:8@ertministries.com
DTSTART;TZID=America/Toronto:20240324T104500
DTEND;TZID=America/Toronto:20240324T130000
DTSTAMP:20240322T144816Z
URL:https://ertministries.com/events/youth-sunday-2/
SUMMARY:YOUTH SUNDAY
DESCRIPTION:
ATTACH;FMTTYPE=image/jpeg:https://ertministries.com/wp-content/uploads/202
 4/03/MARCH24.png
END:VEVENT
BEGIN:VTIMEZONE
TZID:America/Toronto
X-LIC-LOCATION:America/Toronto
BEGIN:DAYLIGHT
DTSTART:20240310T030000
TZOFFSETFROM:-0500
TZOFFSETTO:-0400
TZNAME:EDT
END:DAYLIGHT
END:VTIMEZONE
END:VCALENDAR