BEGIN:VCALENDAR
VERSION:2.0
PRODID:-//wp-events-plugin.com//7.2.3.1//EN
BEGIN:VEVENT
UID:16@ertministries.com
DTSTART;TZID=America/Toronto:20240708T090000
DTEND;TZID=America/Toronto:20240712T140000
DTSTAMP:20240615T123504Z
URL:https://ertministries.com/events/vbs-2024/
SUMMARY:VBS 2024
DESCRIPTION:
ATTACH;FMTTYPE=image/jpeg:https://ertministries.com/wp-content/uploads/202
 4/06/VBS2024Final-2.png
CATEGORIES:VBS SUMMER CAMP
LOCATION:Ebenezer Revival Tabernacle\, 1228 Birchmount Road\, Toronto\, Ont
 ario\, M1P2C3\, Canada
X-APPLE-STRUCTURED-LOCATION;VALUE=URI;X-ADDRESS=1228 Birchmount Road\, Toro
 nto\, Ontario\, M1P2C3\, Canada;X-APPLE-RADIUS=100;X-TITLE=Ebenezer Reviva
 l Tabernacle:geo:0,0
END:VEVENT
BEGIN:VTIMEZONE
TZID:America/Toronto
X-LIC-LOCATION:America/Toronto
BEGIN:DAYLIGHT
DTSTART:20240310T030000
TZOFFSETFROM:-0500
TZOFFSETTO:-0400
TZNAME:EDT
END:DAYLIGHT
END:VTIMEZONE
END:VCALENDAR