BEGIN:VCALENDAR
VERSION:2.0
PRODID:-//wp-events-plugin.com//7.2.3.1//EN
BEGIN:VEVENT
UID:4@ertministries.com
DTSTART;TZID=America/Toronto:20240329T183000
DTEND;TZID=America/Toronto:20240329T213000
DTSTAMP:20240305T203727Z
URL:https://ertministries.com/events/resurrection-2024-good-friday/
SUMMARY:Resurrection 2024 - Good Friday & Resurrection Sunday
DESCRIPTION:Come join us for our Resurrection Convention 2024
ATTACH;FMTTYPE=image/jpeg:https://ertministries.com/wp-content/uploads/202
 4/02/FRIDAY-APRIL-7-5.png
CATEGORIES:Resurrection Convention
LOCATION:Ebenezer Revival Tabernacle\, 1228 Birchmount Road\, Toronto\, Ont
 ario\, M1P2C3\, Cameroon
X-APPLE-STRUCTURED-LOCATION;VALUE=URI;X-ADDRESS=1228 Birchmount Road\, Toro
 nto\, Ontario\, M1P2C3\, Cameroon;X-APPLE-RADIUS=100;X-TITLE=Ebenezer Revi
 val Tabernacle:geo:0,0
END:VEVENT
BEGIN:VTIMEZONE
TZID:America/Toronto
X-LIC-LOCATION:America/Toronto
BEGIN:DAYLIGHT
DTSTART:20240310T030000
TZOFFSETFROM:-0500
TZOFFSETTO:-0400
TZNAME:EDT
END:DAYLIGHT
END:VTIMEZONE
END:VCALENDAR