BEGIN:VCALENDAR
VERSION:2.0
PRODID:-//wp-events-plugin.com//7.2.3.1//EN
BEGIN:VEVENT
UID:68@ertministries.com
DTSTART;TZID=America/Toronto:20251214T000000
DTEND;TZID=America/Toronto:20251231T000000
DTSTAMP:20251212T032050Z
URL:https://ertministries.com/events/christmas-holiday-schedule/
SUMMARY:Christmas Holiday Schedule
DESCRIPTION:
ATTACH;FMTTYPE=image/jpeg:https://ertministries.com/wp-content/uploads/202
 5/12/Christmas-Schedule.png
CATEGORIES:Christmas
END:VEVENT
BEGIN:VTIMEZONE
TZID:America/Toronto
X-LIC-LOCATION:America/Toronto
BEGIN:STANDARD
DTSTART:20251102T010000
TZOFFSETFROM:-0400
TZOFFSETTO:-0500
TZNAME:EST
END:STANDARD
END:VTIMEZONE
END:VCALENDAR