BEGIN:VCALENDAR
VERSION:2.0
PRODID:-//wp-events-plugin.com//7.2.3.1//EN
BEGIN:VEVENT
UID:2@ertministries.com
DTSTART;TZID=America/Toronto:20231218T104500
DTEND;TZID=America/Toronto:20231227T183000
DTSTAMP:20231209T044739Z
URL:https://ertministries.com/events/celebrate-the-2023-holidays/
SUMMARY:Celebrate The 2023 Holidays
DESCRIPTION:Come Celebrate the 2023 Holidays with Us!
ATTACH;FMTTYPE=image/jpeg:https://ertministries.com/wp-content/uploads/202
 3/12/ertm-hero-bg-event-01.jpg
CATEGORIES:Celebration,Gathering,Special Guest
LOCATION:Ebenezer Rivival Tabernacle\, 1228 Birchmount Road\, Scarborough\,
  Ontario\, M1P 2C3\, Canada
X-APPLE-STRUCTURED-LOCATION;VALUE=URI;X-ADDRESS=1228 Birchmount Road\, Scar
 borough\, Ontario\, M1P 2C3\, Canada;X-APPLE-RADIUS=100;X-TITLE=Ebenezer R
 ivival Tabernacle:geo:0,0
END:VEVENT
BEGIN:VTIMEZONE
TZID:America/Toronto
X-LIC-LOCATION:America/Toronto
BEGIN:STANDARD
DTSTART:20231105T010000
TZOFFSETFROM:-0400
TZOFFSETTO:-0500
TZNAME:EST
END:STANDARD
END:VTIMEZONE
END:VCALENDAR