BEGIN:VCALENDAR
VERSION:2.0
PRODID:-//wp-events-plugin.com//7.2.3.1//EN
BEGIN:VEVENT
UID:67@ertministries.com
DTSTART;TZID=America/Toronto:20251214T193000
DTEND;TZID=America/Toronto:20251214T210000
DTSTAMP:20251212T032214Z
URL:https://ertministries.com/events/103739/
SUMMARY:Annual Christmas Program
DESCRIPTION:
ATTACH;FMTTYPE=image/jpeg:https://ertministries.com/wp-content/uploads/202
 5/12/Red-and-Gold-Elegant-Christmas-Concert-Night-Poster-2.png
CATEGORIES:Christmas
LOCATION:Ebenezer Revival Tabernacle\, 1228 Birchmount Road\, Scarborough\,
  ONT\, Canada
X-APPLE-STRUCTURED-LOCATION;VALUE=URI;X-ADDRESS=1228 Birchmount Road\, Scar
 borough\, ONT\, Canada;X-APPLE-RADIUS=100;X-TITLE=Ebenezer Revival Taberna
 cle:geo:0,0
END:VEVENT
BEGIN:VTIMEZONE
TZID:America/Toronto
X-LIC-LOCATION:America/Toronto
BEGIN:STANDARD
DTSTART:20251102T010000
TZOFFSETFROM:-0400
TZOFFSETTO:-0500
TZNAME:EST
END:STANDARD
END:VTIMEZONE
END:VCALENDAR